BEGIN:VCALENDAR
VERSION:2.0
PRODID:-//Communication Lab Ulm - ECPv6.9.0//NONSGML v1.0//EN
CALSCALE:GREGORIAN
METHOD:PUBLISH
X-WR-CALNAME:Communication Lab Ulm
X-ORIGINAL-URL:https://www.comlab-ulm.de
X-WR-CALDESC:Veranstaltungen für Communication Lab Ulm
REFRESH-INTERVAL;VALUE=DURATION:PT1H
X-Robots-Tag:noindex
X-PUBLISHED-TTL:PT1H
BEGIN:VTIMEZONE
TZID:Europe/Berlin
BEGIN:DAYLIGHT
TZOFFSETFROM:+0100
TZOFFSETTO:+0200
TZNAME:CEST
DTSTART:20260329T010000
END:DAYLIGHT
BEGIN:STANDARD
TZOFFSETFROM:+0200
TZOFFSETTO:+0100
TZNAME:CET
DTSTART:20261025T010000
END:STANDARD
END:VTIMEZONE
BEGIN:VEVENT
DTSTART;TZID=Europe/Berlin:20260423T110000
DTEND;TZID=Europe/Berlin:20260423T114500
DTSTAMP:20260422T112246
CREATED:20260319T133107Z
LAST-MODIFIED:20260319T133721Z
UID:20000223-1776942000-1776944700@www.comlab-ulm.de
SUMMARY:All About TextLab: Barrierefreiheit in TextLab entdecken
DESCRIPTION:All About TextLab – Der Coffee-Talk mit ComLab\n\n\n\n			\n			\n				\n				\n				\n				\n			\n				\n				\n			\n				\n				\n				\n				\n				\n				\n				\n				\n				\n				\n				\n				\n				\n				\n				\n				\n				\n				\n					\n					\n						Dauer: 45 Minuten\n						\n					\n				\n			\n			\n				\n				\n				\n				\n				\n				\n				\n				\n				\n				\n					\n					\n						Kosten: Kostenlos\n						\n					\n				\n			\n			\n				\n				\n				\n				\n				\n				\n				\n				\n				\n				\n					\n					\n						Microsoft Teams\n						\n					\n				\n			\n			\n				\n				\n				\n				\n			\n				\n				\n				\n				\n				\n				\n				\n				\n				\n				\n				Themenschwerpunkt\nWoran denken Sie beim Thema Barrierefreiheit in TextLab? Gewiss an unsere Benchmarks für Leichte Sprache und Einfache Sprache\, den HIX\, die Leichte-Sprache-Datenbank und den Sprachlevel-Index. Doch das ist längst nicht alles. Denn TextLab ermöglicht auch barrierefreies Arbeiten – und das nicht zu knapp. \nWas bedeutet das für Ihre täglichen Doings mit unserer Software und welche Chancen bieten sich? Dazu holen wir Sie gern bei All about TextLab ab. Und wir zeigen Ihnen dabei\, wie Sie hier mit Prompt Engineering noch erfolgreicher sein können. \nOliver Haug und Florian Burkhardt laden Sie herzlich ein. \nWann? 23.04.2026 | 11:00 Uhr \nWie lange? 45 Minuten \nWas kostet’s? Nix 😎 \nAblauf des Online-Seminars\nNach Ihrer Anmeldung erhalten Sie eine Webinar-Einladung mit Ihren Zugangsdaten. Am Webinar-Tag loggen Sie sich bequem in den virtuellen Seminarraum ein und schon geht’s los. Bitte beachten Sie dazu auch unsere Teilnahmebedingungen. \n			\n			\n				\n				\n				\n				\n				\n				\n				\n				\n				\n				\n			\n				\n				\n				\n				\n				Florian Burkhardt\nKey Account Manager \nDer Schlüssel zum Erfolg sind unsere Kund*innen. Das weiß auch Florian Burkhardt. Seit 2021 ist er als Key-Account-Manager mit an Bord im ComLab-Team. Als Ansprechpartner für TextLab steht er unseren Kund*innen immer mit einem offenen Ohr und einer helfenden Hand zur Seite. \n			\n			\n				\n				\n				\n				\n			\n				\n				\n			\n				\n				\n				\n				\n				\n				\n				\n				\n				\n				\n				\n				\n				\n				\n				\n				\n				\n				\n				\n				\n					Bitte aktiviere JavaScript in deinem Browser\, um dieses Formular fertigzustellen.Bitte aktiviere JavaScript in deinem Browser\, um dieses Formular fertigzustellen.Teilnehmende PersonName *VornameNachnameE-Mail *DSGVO *Ich habe die AGB gelesen.DSGVO (kopieren) *Ich habe die Datenschutzhinweise gelesen.DSGVO (kopieren) *Ich willige ein\, dass diese Website meine übermittelten Informationen speichert\, sodass meine Anfrage beantwortet werden kann.AGB | Datenschutz Kostenlos anmelden
URL:https://www.comlab-ulm.de/webinar/all-about-textlab-barrierefreiheit/
CATEGORIES:Live-Webinar
ATTACH;FMTTYPE=image/png:https://www.comlab-ulm.de/wp-content/uploads/2026/03/All-about-Text-Lab-ohne-Neuheiten-Oli-Flo.png
ORGANIZER;CN="H&H Communication Lab GmbH %E2%80%93 Institut f%C3%BCr Verst%C3%A4ndlichkeit":MAILTO:info@comlab-ulm.de
END:VEVENT
BEGIN:VEVENT
DTSTART;TZID=Europe/Berlin:20260507T110000
DTEND;TZID=Europe/Berlin:20260507T114500
DTSTAMP:20260422T112247
CREATED:20260324T121626Z
LAST-MODIFIED:20260324T122111Z
UID:20000224-1778151600-1778154300@www.comlab-ulm.de
SUMMARY:All About TextLab: Mehr Überblick im TextLab-Archiv
DESCRIPTION:All About TextLab – Der Coffee-Talk mit ComLab\n\n\n\n			\n			\n				\n				\n				\n				\n			\n				\n				\n			\n				\n				\n				\n				\n				\n				\n				\n				\n				\n				\n				\n				\n				\n				\n				\n				\n				\n				\n					\n					\n						Dauer: 45 Minuten\n						\n					\n				\n			\n			\n				\n				\n				\n				\n				\n				\n				\n				\n				\n				\n					\n					\n						Kosten: Kostenlos\n						\n					\n				\n			\n			\n				\n				\n				\n				\n				\n				\n				\n				\n				\n				\n					\n					\n						Microsoft Teams\n						\n					\n				\n			\n			\n				\n				\n				\n				\n			\n				\n				\n				\n				\n				\n				\n				\n				\n				\n				\n				Themenschwerpunkt\nDas Archiv\, das unbekannte Wesen? Das sollte nicht sein – jedenfalls nicht\, wenn es um Ihre Software TextLab geht. Unsere Mission dieses Mal: jede Menge Input für Ihre Arbeit im TextLab-Archiv und damit zu Daten-Management\, Kennzahlen-Auswertung und Dashboard. Kombiniert mit Tipps für effizientes Teamwork im Gruppenarchiv.  \nAlles zeitsparend\, praxisorientiert und leicht umzusetzen. Ein Termin für TextLab-Admins und -User gleichermaßen.  \nUnser Tipp: Archivieren Sie diese Einladung nicht\, sondern melden Sie sich gleich an! 😉 \nWann? 07.05.2026 | 11:00 Uhr \nWie lange? 45 Minuten \nWas kostet’s? Nix 😎 \nAblauf des Online-Seminars\nNach Ihrer Anmeldung erhalten Sie eine Webinar-Einladung mit Ihren Zugangsdaten. Am Webinar-Tag loggen Sie sich bequem in den virtuellen Seminarraum ein und schon geht’s los. Bitte beachten Sie dazu auch unsere Teilnahmebedingungen. \n			\n			\n				\n				\n				\n				\n				\n				\n				\n				\n				\n				\n			\n				\n				\n				\n				\n				Florian Burkhardt\nKey Account Manager \nDer Schlüssel zum Erfolg sind unsere Kund*innen. Das weiß auch Florian Burkhardt. Seit 2021 ist er als Key-Account-Manager mit an Bord im ComLab-Team. Als Ansprechpartner für TextLab steht er unseren Kund*innen immer mit einem offenen Ohr und einer helfenden Hand zur Seite.\n			\n			\n				\n				\n				\n				\n			\n				\n				\n			\n				\n				\n				\n				\n				\n				\n				\n				\n				\n				\n				\n				\n				\n				\n				\n				\n				\n				\n				\n				\n					Bitte aktiviere JavaScript in deinem Browser\, um dieses Formular fertigzustellen.Bitte aktiviere JavaScript in deinem Browser\, um dieses Formular fertigzustellen.Teilnehmende PersonName *VornameNachnameE-Mail *DSGVO *Ich habe die AGB gelesen.DSGVO (kopieren) *Ich habe die Datenschutzhinweise gelesen.DSGVO (kopieren) *Ich willige ein\, dass diese Website meine übermittelten Informationen speichert\, sodass meine Anfrage beantwortet werden kann.AGB | Datenschutz Kostenlos anmelden
URL:https://www.comlab-ulm.de/webinar/all-about-textlab-mehr-ueberblick-im-textlab-archiv/
CATEGORIES:Live-Webinar
ATTACH;FMTTYPE=image/png:https://www.comlab-ulm.de/wp-content/uploads/2026/03/All-about-Text-Lab-ohne-Neuheiten-Oli-Flo.png
ORGANIZER;CN="H&H Communication Lab GmbH %E2%80%93 Institut f%C3%BCr Verst%C3%A4ndlichkeit":MAILTO:info@comlab-ulm.de
END:VEVENT
END:VCALENDAR